BEGIN:VCALENDAR
VERSION:2.0
PRODID:-//eventon.com NONSGML v1.0//EN
CALSCALE:GREGORIAN
METHOD:PUBLISH
BEGIN:VEVENT
UID:69e78d3891ff7
DTSTAMP:20260421T144408Z
DTSTART:20230929T210000Z
DTEND:20230929T235000Z
LOCATION:
SUMMARY:James Clarke
DESCRIPTION:James Clarke\nhttps://www.southbankcity.co.uk/events/james-clar
 ke-3/
URL:https://www.southbankcity.co.uk/events/james-clarke-3/
END:VEVENT
END:VCALENDAR