BEGIN:VCALENDAR
VERSION:2.0
PRODID:-//eventon.com NONSGML v1.0//EN
CALSCALE:GREGORIAN
METHOD:PUBLISH
BEGIN:VEVENT
UID:69e4e9591637d
DTSTAMP:20260419T144025Z
DTSTART:20230512T210000Z
DTEND:20230512T235000Z
LOCATION:Southbank City Friar Lane
SUMMARY:Rick from The Burgundys
DESCRIPTION:Rick from The Burgundys\nhttps://www.southbankcity.co.uk/events
 /rick-from-the-burgundys/
URL:https://www.southbankcity.co.uk/events/rick-from-the-burgundys/
END:VEVENT
END:VCALENDAR